BEGIN:VCALENDAR
VERSION:2.0
PRODID:-//eventon.com NONSGML v1.0//EN
CALSCALE:GREGORIAN
METHOD:PUBLISH
BEGIN:VEVENT
UID:69e51525e6113
DTSTAMP:20260419T174717Z
DTSTART:20240918T163000Z
DTEND:20240918T193000Z
LOCATION:
SUMMARY:Bern: Zukunfts-Visionen fürs Quartier Länggass Engehalbinsel
DESCRIPTION:Diese Zukunfts-Veranstaltung findet in Partnerschaft mit der Qu
 artierkommission Länggasse Engehalbinsel statt. Die Quartierkommission Lä
 nggass-Engehalbinsel und Monda Futura laden ein zu einer kreativen Visions-
 Reise unter dem Motto: Träumen von einer lebenswerten Zukunft im Quartier.
  Wir möchten erträumen\,  wie sich das Quartier Länggass-Engehalbinsel i
 n den nächsten Jahren entwickeln soll. Was wird bleiben?[..]\nhttps://mond
 afutura.org/events/bern-engehalbinsel-zukunft/
URL:https://mondafutura.org/events/bern-engehalbinsel-zukunft/
END:VEVENT
END:VCALENDAR