BEGIN:VCALENDAR
VERSION:2.0
PRODID:-//eventon.com NONSGML v1.0//EN
CALSCALE:GREGORIAN
METHOD:PUBLISH
BEGIN:VEVENT
UID:69e5003608225
DTSTAMP:20260419T161758Z
DTSTART:20240912T163000Z
DTEND:20240912T193000Z
LOCATION:
SUMMARY:Bern: Zukunfts-Visionen fürs Quartier Länggass Engehalbinsel
DESCRIPTION:Diese Zukunfts-Veranstaltung findet in Partnerschaft mit der Qu
 artierkommission Länggasse Engehalbinsel statt. Die Quartierkommission Lä
 nggass-Engehalbinsel und Monda Futura laden ein zu einer kreativen Visions-
 Reise unter dem Motto: Träumen von einer lebenswerten Zukunft im Quartier.
  Wir möchten erträumen\,  wie sich das Quartier Länggass-Engehalbinsel i
 n den nächsten Jahren entwickeln soll. Was wird bleiben?[..]\nhttps://mond
 afutura.org/events/bern-zukunfts-visionen-fuers-quartier-laenggass-engehalb
 insel-2/
URL:https://mondafutura.org/events/bern-zukunfts-visionen-fuers-quartier-laenggass-engehalbinsel-2/
END:VEVENT
END:VCALENDAR